BEGIN:VCALENDAR
VERSION:2.0
PRODID:-//wp-events-plugin.com//7.2.3.1//EN
BEGIN:VEVENT
UID:14854@liguecentrett.com
DTSTART:20230930T084500Z
DTEND:20230930T123000Z
DTSTAMP:20240911T051550Z
URL:https://liguecentrett.com/events/assemblee-generale-2023/
SUMMARY:Assemblée Générale 2023
DESCRIPTION:[su_tabs]\n\n[su_tab title="Convocation"]\n\nMieux Connaitre :\
 nMorée - le SC Morée\n\nConvocation Assemblée Générale 2023/Saison 20
 22-2023\n\nAnnexe 1 : Note réglementaire Pouvoir et Procuration\n\nAnnexe
  2 : Fiche de Pouvoir du Délégué\n\nAnnexe 3 : Fiche de Procuration\n\n
 Annexe 4 : Courrier du Président\n\nAnnexe 5 : Acte de Candidature\n\nInv
 itation Réception\n\n[/su_tab]\n\n[su_tab title="Administratif et financi
 er"]\n\nDiscours du Président Jean-Paul Chilon\n\nProcès Verbal de l'A.G
 . 2022\n\nRapport 2023 du Secrétaire Général Bruno Simon\n\nListe Point
 age des Clubs 2022\n\nComptes de résultat 2022-2023 - BP 2023-2024 Révis
 é - BP 2024-2025\n\nComptes annuels et méthodologie (dont bilan actif - 
 passif 2022-2023)\n\nTarifs 2024-2025\n\nRapport des Vérificateurs aux co
 mptes\n\nÉlection au Conseil de Ligue\n\n\n\n&nbsp\;\n\nFabien Chapelle 3
 23 voix élu\n\n&nbsp\;\n\n\n\n&nbsp\;\n\nPhilippe Landon 320 voix élu\n\
 n&nbsp\;\n\n&nbsp\;\n\n[/su_tab]\n\n[su_tab title="Sportif et développeme
 nt"]\n\nBilan annuel du Conseiller Technique National - Nicolas Metaireau\
 n\nBilan du pôle espoir - Nicolas Metaireau\n\nBilan des stages régionau
 x - Hugo Berger\n\nBilan annuel du développement - Romain Bardin\n\nBilan
  annuel commission féminine - Véronique Pion - Statistiques 1 - Statisti
 ques 2\n\nBalle au Centre n°14\n\nMot de la Présidente Régionale de l'U
 SEP\n\n&nbsp\;\n\n[/su_tab]\n\n[su_tab title="Récompenses aux clubs"]\n\n
 Challenge clubs corpos\n\nLes challenges 2022-2023\n\nLes clubs labellisé
 s et le défi licence découverte 2022-2023\n\n[/su_tab]\n\n[su_tab title=
 "Mérite Régional"]\n\nPromotion 2023\n\n[/su_tab]\n\n[su_tab title="Phot
 os"]\n\nAvant :\n\n\n\n\n\nPendant :\n\n\n\nLes nouveaux élus (de la gauc
 he vers la droite - Fabien Chapelle (4S Tours) et Philippe Landon (ES Vill
 e aux Dames) :\n\n\n\n&nbsp\;\n\nAprès :\n\n\n\net Ping Tour :\n\n\n\nMer
 ci à tous et à l'année prochaine dans le Loiret...\n\n[/su_tab]\n\n[su_
 tab title="Vidéos"]\n\n[su_youtube url="https://youtu.be/8_ZtpAN-004"]\n\
 n&nbsp\;\n\n[/su_tab]\n\n[su_tab title="Article de journal"]\n\nhttps://ww
 w.lanouvellerepublique.fr/loir-et-cher/commune/moree/tennis-de-table-le-pi
 ng-tour-fait-escale-a-moree\n\nNouvelle République du 1er Octobre\n\n&nbs
 p\;\n\n[/su_tab]\n\n[/su_tabs]
CATEGORIES:Réunions
LOCATION:Salle des fêtes de Morée\, Allée des Erables\, Morée\, France
GEO:47.901407;1.231337
X-APPLE-STRUCTURED-LOCATION;VALUE=URI;X-ADDRESS=Allée des Erables\, Morée
 \, France;X-APPLE-RADIUS=100;X-TITLE=Salle des fêtes de Morée:geo:47.901
 407,1.231337
END:VEVENT
END:VCALENDAR