BEGIN:VCALENDAR
VERSION:2.0
PRODID:-//wp-events-plugin.com//7.2.3.1//EN
BEGIN:VEVENT
UID:14369@liguecentrett.com
DTSTART:20231111T090000Z
DTEND:20231112T170000Z
DTSTAMP:20230720T081751Z
URL:https://liguecentrett.com/events/arbitre-juge-arbitre-1-37/
SUMMARY:Arbitre - Juge Arbitre 1 - 37
DESCRIPTION:samedi : formation arbitre régional\n\ndimanche : formation ju
 ge arbitre régional 1\nJe m'inscris
CATEGORIES:Formations,Formations arbitres
LOCATION:gymnase Henri DEPIERRE (les Aubuis)\,  31 Rue Frédéric Joliot Cu
 rie\, Saint-Avertin\, France
GEO:47.346157;0.730845
X-APPLE-STRUCTURED-LOCATION;VALUE=URI;X-ADDRESS= 31 Rue Frédéric Joliot C
 urie\, Saint-Avertin\, France;X-APPLE-RADIUS=100;X-TITLE=gymnase Henri DEP
 IERRE (les Aubuis):geo:47.346157,0.730845
END:VEVENT
END:VCALENDAR