BEGIN:VCALENDAR
VERSION:2.0
PRODID:-//wp-events-plugin.com//7.2.3.1//EN
BEGIN:VEVENT
UID:14429@liguecentrett.com
DTSTART:20231028T090000Z
DTEND:20231029T170000Z
DTSTAMP:20230719T084458Z
URL:https://liguecentrett.com/events/arbitre-juge-arbitre-1-18-2023/
SUMMARY:Arbitre - Juge Arbitre 1 - 18 - 2023
DESCRIPTION:Samedi: formation arbitre régional\n\ndimanche : formation jug
 e-arbitre 1\n\n&nbsp\;\nJe m'inscris
CATEGORIES:Formations,Formations arbitres
LOCATION:CJM Bourges TT\, 135 Rue de Turly\, Bourges\, France
GEO:47.100025;2.419944
X-APPLE-STRUCTURED-LOCATION;VALUE=URI;X-ADDRESS=135 Rue de Turly\, Bourges\
 , France;X-APPLE-RADIUS=100;X-TITLE=CJM Bourges TT:geo:47.100025,2.419944
END:VEVENT
END:VCALENDAR