BEGIN:VCALENDAR
VERSION:2.0
PRODID:-//wp-events-plugin.com//7.2.3.1//EN
BEGIN:VEVENT
UID:15235@liguecentrett.com
DTSTART:20250201T083000Z
DTEND:20250201T183000Z
DTSTAMP:20241210T162218Z
URL:https://liguecentrett.com/events/arbitre-45-2024-4/
SUMMARY:Arbitre – 45 – 2024
DESCRIPTION:&nbsp\;\nJe m'inscris
CATEGORIES:Formations,Formations arbitres
LOCATION:AS Gien TT\, Rue Jean Mermoz\, Gien\, France
GEO:47.707813;2.622147
X-APPLE-STRUCTURED-LOCATION;VALUE=URI;X-ADDRESS=Rue Jean Mermoz\, Gien\, Fr
 ance;X-APPLE-RADIUS=100;X-TITLE=AS Gien TT:geo:47.707813,2.622147
END:VEVENT
END:VCALENDAR