BEGIN:VCALENDAR
VERSION:2.0
PRODID:-//wp-events-plugin.com//7.2.3.1//EN
BEGIN:VEVENT
UID:14453@liguecentrett.com
DTSTART:20231112T073000Z
DTEND:20231112T170000Z
DTSTAMP:20231025T153130Z
URL:https://liguecentrett.com/events/arbitre-41-2023/
SUMMARY:Arbitre - 41 - 2023
DESCRIPTION:&nbsp\;\nJe m'inscris
CATEGORIES:Formations,Formations arbitres
LOCATION:Vineuil Sports / Suèvres TT\, 12 Rue du Stade\, Vineuil\, France
GEO:47.586957;1.385613
X-APPLE-STRUCTURED-LOCATION;VALUE=URI;X-ADDRESS=12 Rue du Stade\, Vineuil\,
  France;X-APPLE-RADIUS=100;X-TITLE=Vineuil Sports / Suèvres TT:geo:47.586
 957,1.385613
END:VEVENT
END:VCALENDAR