BEGIN:VCALENDAR
VERSION:2.0
PRODID:-//wp-events-plugin.com//7.2.3.1//EN
BEGIN:VEVENT
UID:15030@liguecentrett.com
DTSTART:20240428T090000Z
DTEND:20240428T180000Z
DTSTAMP:20240402T090014Z
URL:https://liguecentrett.com/events/arbitre-36-2024/
SUMMARY:Arbitre – 36 – 2024
DESCRIPTION:&nbsp\;\nJe m'inscris
CATEGORIES:Formations,Formations arbitres
LOCATION:TT Brenne Le Blanc\, 6 rue Jean Giraudoux\, Le Blanc\, France
GEO:46.633348;1.067575
X-APPLE-STRUCTURED-LOCATION;VALUE=URI;X-ADDRESS=6 rue Jean Giraudoux\, Le B
 lanc\, France;X-APPLE-RADIUS=100;X-TITLE=TT Brenne Le Blanc:geo:46.633348,
 1.067575
END:VEVENT
END:VCALENDAR