BEGIN:VCALENDAR
VERSION:2.0
PRODID:-//wp-events-plugin.com//7.2.3.1//EN
BEGIN:VEVENT
UID:15199@liguecentrett.com
DTSTART:20240921T083000Z
DTEND:20240921T183000Z
DTSTAMP:20240906T114046Z
URL:https://liguecentrett.com/events/arbitre-36-2024-2/
SUMMARY:Arbitre – 36 – 2024
DESCRIPTION:&nbsp\;\nJe m'inscris
CATEGORIES:Formations,Formations arbitres
LOCATION:Maison des Sports\, 89 allée des pLatanes\, Châteauroux\, Indre\
 , 36000\, Centre Val de Loire\, France
X-APPLE-STRUCTURED-LOCATION;VALUE=URI;X-ADDRESS=89 allée des pLatanes\, Ch
 âteauroux\, Indre\, 36000\, Centre Val de Loire\, France;X-APPLE-RADIUS=1
 00;X-TITLE=Maison des Sports:geo:0,0
END:VEVENT
END:VCALENDAR