BEGIN:VCALENDAR
VERSION:2.0
PRODID:-//wp-events-plugin.com//7.2.3.1//EN
BEGIN:VEVENT
UID:15349@liguecentrett.com
DTSTART:20251111T083000Z
DTEND:20251111T183000Z
DTSTAMP:20251008T153129Z
URL:https://liguecentrett.com/events/arbitre-28-2025/
SUMMARY:Arbitre – 28 – 2025
DESCRIPTION:&gt\; Toutes les informations sur les formations &lt\;\n&nbsp\;
 \n
CATEGORIES:Formations,Formations arbitres
LOCATION:C'Chartres TT\, rue Jules Hetzel\, Chartres\, France
GEO:48.444484;1.513963
X-APPLE-STRUCTURED-LOCATION;VALUE=URI;X-ADDRESS=rue Jules Hetzel\, Chartres
 \, France;X-APPLE-RADIUS=100;X-TITLE=C'Chartres TT:geo:48.444484,1.513963
END:VEVENT
END:VCALENDAR