BEGIN:VCALENDAR
VERSION:2.0
PRODID:-//wp-events-plugin.com//7.2.3.1//EN
BEGIN:VEVENT
UID:15351@liguecentrett.com
DTSTART:20251101T083000Z
DTEND:20251101T183000Z
DTSTAMP:20251009T180318Z
URL:https://liguecentrett.com/events/arbitre-18-2025/
SUMMARY:Arbitre – 18 – 2025
DESCRIPTION:&gt\; Toutes les informations sur les formations &lt\;\n&nbsp\;
 \n
CATEGORIES:Formations,Formations arbitres
LOCATION:Comité du Cher de Tennis de Table\, 1 rue Gaston Berger\, Bourges
 \, France
GEO:47.102763;2.426763
X-APPLE-STRUCTURED-LOCATION;VALUE=URI;X-ADDRESS=1 rue Gaston Berger\, Bourg
 es\, France;X-APPLE-RADIUS=100;X-TITLE=Comité du Cher de Tennis de Table:
 geo:47.102763,2.426763
END:VEVENT
END:VCALENDAR