BEGIN:VCALENDAR
VERSION:2.0
PRODID:-//wp-events-plugin.com//7.2.3.1//EN
BEGIN:VEVENT
UID:15275@liguecentrett.com
DTSTART:20250628T100000Z
DTEND:20250628T180000Z
DTSTAMP:20250627T101524Z
URL:https://liguecentrett.com/events/90-ans-du-f-l-st-aignan/
SUMMARY:90 ans du F.L. St Aignan
DESCRIPTION:\n\n&nbsp\;\n\n\n\n&nbsp\;\n\n&nbsp\;\n\n&nbsp\;\n\n&nbsp\;\n\n
 Venez participer à l'étape 2 - été ping en fête avec :\n\n 	1 ou plus
 ieurs défis (1 défi recurrent sur la journée)\, 1 défi spécifique par
  catégorie de participants (jeunes\, femmes\, familles….) : - concours 
 de chamboul’Ping - Renvoi de balles du robot - Vitesse au radar - …\n\
 n&nbsp\;\n\n 	1 demonstration avec de bons joueurs locaux dont 1 femme : -
  demonstration technique et sportive (échanges\, panier de balles\, match
  exhibition) - jeu avec le public - défis des champions\n\n&nbsp\;\n\n 	1
  tournoi en Extérieur : - Tournoi individuel et/ou par équipes - doubles
  - Tournoi pour les licenciés et non-licenciés - invitation à participe
 r à une étape finale\n
ATTACH;FMTTYPE=image/jpeg:https://liguecentrett.com/wp-content/uploads/202
 5/06/Ete-ping-en-fete-2025-INVITATION-1480-×-610-px.png
CATEGORIES:Manifestation externe
END:VEVENT
END:VCALENDAR