BEGIN:VCALENDAR
VERSION:2.0
PRODID:-//wp-events-plugin.com//7.2.3.1//EN
BEGIN:VEVENT
UID:14943@liguecentrett.com
DTSTART;VALUE=DATE:20231118
DTEND;VALUE=DATE:20231119
DTSTAMP:20230809T103859Z
URL:https://liguecentrett.com/events/1ere-journee-championnat-sport-adapte
 /
SUMMARY:1ère journée championnat sport adapté
DESCRIPTION:
CATEGORIES:Compétitions
LOCATION:St Marceau Orléans TT\, rue Honoré D'Estienne d'Orves\, Orléans
 \, France
GEO:47.885162;1.903299
X-APPLE-STRUCTURED-LOCATION;VALUE=URI;X-ADDRESS=rue Honoré D'Estienne d'Or
 ves\, Orléans\, France;X-APPLE-RADIUS=100;X-TITLE=St Marceau Orléans TT:
 geo:47.885162,1.903299
END:VEVENT
END:VCALENDAR