BEGIN:VCALENDAR
VERSION:2.0
PRODID:-//wp-events-plugin.com//7.2.3.1//EN
BEGIN:VEVENT
UID:15018@liguecentrett.com
DTSTART:20240420T083000Z
DTEND:20240420T200000Z
DTSTAMP:20240408T093123Z
URL:https://liguecentrett.com/events/1er-tournoi-regional-du-gepl/
SUMMARY:1er Tournoi Régional du GEPL
DESCRIPTION:\nRèglement Tournoi Régional GEPL 20 Avril 2024
ATTACH;FMTTYPE=image/jpeg:https://liguecentrett.com/wp-content/uploads/202
 4/04/Affiche_Tournoi-GEPL-212x300-1.png
CATEGORIES:Tournoi
LOCATION:US Sandillon TT\, rue verte\, Sandillon\, France
GEO:47.847014;2.024256
X-APPLE-STRUCTURED-LOCATION;VALUE=URI;X-ADDRESS=rue verte\, Sandillon\, Fra
 nce;X-APPLE-RADIUS=100;X-TITLE=US Sandillon TT:geo:47.847014,2.024256
END:VEVENT
END:VCALENDAR