BEGIN:VCALENDAR
VERSION:2.0
PRODID:-//wp-events-plugin.com//7.2.3.1//EN
BEGIN:VEVENT
UID:15383@liguecentrett.com
DTSTART:20260407T190000Z
DTEND:20260407T213000Z
DTSTAMP:20260326T103431Z
URL:https://liguecentrett.com/events/1-2-finales-playoffs-pro-b-cchartres-
 amiens-stt/
SUMMARY:1/2 finales PlayOffs Pro B C'Chartres/Amiens STT
DESCRIPTION:Le C’Chartres Tennis de Table organise la demi-finale retour
  des PlayOffs de Pro B\, qui se déroulera :\n\n Mardi 7 avril à 19h\n 
 Complexe Sportif Rosskopf – 28000 Chartres\n\nÀ cette occasion\, notre 
 équipe affrontera Amiens STT avec un enjeu de taille : une place en fi
 nale\, synonyme de montée en Pro A.\n\n Réservation obligatoire\nAfin d
 e garantir l’accès à la rencontre\, il est nécessaire de réserver le
 s places via HelloAsso :\n https://www.helloasso.com/associations/c-chart
 res-tennis-de-table/evenements/07-04-2026-19h-demi-finale-playoffs-c-chart
 res-tt-amiens-stt
ATTACH;FMTTYPE=image/jpeg:https://liguecentrett.com/wp-content/uploads/202
 6/03/Affiche-Play-Offs-Impression.png
CATEGORIES:Compétitions
LOCATION:C'Chartres TT\, rue Jules Hetzel\, Chartres\, France
GEO:48.444484;1.513963
X-APPLE-STRUCTURED-LOCATION;VALUE=URI;X-ADDRESS=rue Jules Hetzel\, Chartres
 \, France;X-APPLE-RADIUS=100;X-TITLE=C'Chartres TT:geo:48.444484,1.513963
END:VEVENT
END:VCALENDAR